BEGIN:VCALENDAR
VERSION:2.0
PRODID:-//LFT - La Flèche Thoréfoléenne - ECPv6.15.20//NONSGML v1.0//EN
CALSCALE:GREGORIAN
METHOD:PUBLISH
X-ORIGINAL-URL:https://lft-club.fr
X-WR-CALDESC:Évènements pour LFT - La Flèche Thoréfoléenne
REFRESH-INTERVAL;VALUE=DURATION:PT1H
X-Robots-Tag:noindex
X-PUBLISHED-TTL:PT1H
BEGIN:VTIMEZONE
TZID:Europe/Paris
BEGIN:DAYLIGHT
TZOFFSETFROM:+0100
TZOFFSETTO:+0200
TZNAME:CEST
DTSTART:20140330T010000
END:DAYLIGHT
BEGIN:STANDARD
TZOFFSETFROM:+0200
TZOFFSETTO:+0100
TZNAME:CET
DTSTART:20141026T010000
END:STANDARD
BEGIN:DAYLIGHT
TZOFFSETFROM:+0100
TZOFFSETTO:+0200
TZNAME:CEST
DTSTART:20150329T010000
END:DAYLIGHT
BEGIN:STANDARD
TZOFFSETFROM:+0200
TZOFFSETTO:+0100
TZNAME:CET
DTSTART:20151025T010000
END:STANDARD
BEGIN:DAYLIGHT
TZOFFSETFROM:+0100
TZOFFSETTO:+0200
TZNAME:CEST
DTSTART:20160327T010000
END:DAYLIGHT
BEGIN:STANDARD
TZOFFSETFROM:+0200
TZOFFSETTO:+0100
TZNAME:CET
DTSTART:20161030T010000
END:STANDARD
BEGIN:DAYLIGHT
TZOFFSETFROM:+0100
TZOFFSETTO:+0200
TZNAME:CEST
DTSTART:20170326T010000
END:DAYLIGHT
BEGIN:STANDARD
TZOFFSETFROM:+0200
TZOFFSETTO:+0100
TZNAME:CET
DTSTART:20171029T010000
END:STANDARD
BEGIN:DAYLIGHT
TZOFFSETFROM:+0100
TZOFFSETTO:+0200
TZNAME:CEST
DTSTART:20180325T010000
END:DAYLIGHT
BEGIN:STANDARD
TZOFFSETFROM:+0200
TZOFFSETTO:+0100
TZNAME:CET
DTSTART:20181028T010000
END:STANDARD
END:VTIMEZONE
BEGIN:VEVENT
DTSTART;TZID=Europe/Paris:20171014T093000
DTEND;TZID=Europe/Paris:20171014T120000
DTSTAMP:20260421T215935
CREATED:20170911T130428Z
LAST-MODIFIED:20170921T131833Z
UID:502-1507973400-1507982400@lft-club.fr
SUMMARY:Assemblée Générale de la LFT
DESCRIPTION:L’assemblée générale de la LFT se tiendra samedi 14 octobre 2017 dans une salle de l’espace René Cassin. \nRéservez votre matinée pour cet événement important de notre association.
URL:https://lft-club.fr/evenement/assemblee-generale-de-la-lft/
END:VEVENT
BEGIN:VEVENT
DTSTART;TZID=Europe/Paris:20170903T090000
DTEND;TZID=Europe/Paris:20170903T130000
DTSTAMP:20260421T215935
CREATED:20160620T134743Z
LAST-MODIFIED:20170830T125536Z
UID:265-1504429200-1504443600@lft-club.fr
SUMMARY:Forum des associations
DESCRIPTION:Rendez-vous au Forum des Associations le samedi 2 septembre 2017 qui se tiendra Salle de La Vigne pour les inscriptions de la saison 2017-2018. \nHoraire : de 9h00 à 13h00
URL:https://lft-club.fr/evenement/forum-des-associations-2/
LOCATION:SALLE DE LA VIGNE\, Rue des Moulins\, THORIGNE FOUILLARD\, 35235\, France
END:VEVENT
BEGIN:VEVENT
DTSTART;TZID=Europe/Paris:20150620T100000
DTEND;TZID=Europe/Paris:20150620T170000
DTSTAMP:20260421T215935
CREATED:20150703T113816Z
LAST-MODIFIED:20150705T145301Z
UID:54-1434794400-1434819600@lft-club.fr
SUMMARY:Journée de clôture
DESCRIPTION:
URL:https://lft-club.fr/evenement/journee-de-cloture/
LOCATION:La Juteauderie\, La Juteauderie\, Thorigné Fouillard\, 35235\, France
CATEGORIES:Clôture,Extérieur
END:VEVENT
END:VCALENDAR